BEGIN:VCALENDAR
VERSION:2.0
PRODID:-//The Society of Authors - ECPv6.15.20//NONSGML v1.0//EN
CALSCALE:GREGORIAN
METHOD:PUBLISH
X-ORIGINAL-URL:https://societyofauthors.org
X-WR-CALDESC:Events for The Society of Authors
REFRESH-INTERVAL;VALUE=DURATION:PT1H
X-Robots-Tag:noindex
X-PUBLISHED-TTL:PT1H
BEGIN:VTIMEZONE
TZID:Europe/London
BEGIN:DAYLIGHT
TZOFFSETFROM:+0000
TZOFFSETTO:+0100
TZNAME:BST
DTSTART:20250330T010000
END:DAYLIGHT
BEGIN:STANDARD
TZOFFSETFROM:+0100
TZOFFSETTO:+0000
TZNAME:GMT
DTSTART:20251026T010000
END:STANDARD
BEGIN:DAYLIGHT
TZOFFSETFROM:+0000
TZOFFSETTO:+0100
TZNAME:BST
DTSTART:20260329T010000
END:DAYLIGHT
BEGIN:STANDARD
TZOFFSETFROM:+0100
TZOFFSETTO:+0000
TZNAME:GMT
DTSTART:20261025T010000
END:STANDARD
BEGIN:DAYLIGHT
TZOFFSETFROM:+0000
TZOFFSETTO:+0100
TZNAME:BST
DTSTART:20270328T010000
END:DAYLIGHT
BEGIN:STANDARD
TZOFFSETFROM:+0100
TZOFFSETTO:+0000
TZNAME:GMT
DTSTART:20271031T010000
END:STANDARD
END:VTIMEZONE
BEGIN:VEVENT
DTSTART;TZID=Europe/London:20260421T173000
DTEND;TZID=Europe/London:20260421T193000
DTSTAMP:20260423T234713
CREATED:20260121T143723Z
LAST-MODIFIED:20260402T120238Z
UID:10002069-1776792600-1776799800@societyofauthors.org
SUMMARY:Sevenoaks and Tunbridge Wells Group: Routes into Publishing Panel
DESCRIPTION:Join the Sevenoaks and Tunbridge Wells Group on Tuesday 21 April from 5.30pm (talk starts at 6pm) for a panel discussion on different routes into publishing. We have assembled a panel of three experts from among our membership: John Webb\, Nathalie Abi-Ezzi and Peter Smith\, all of whom have wide-ranging experience of the problems and opportunities of traditional\, hybrid and entirely self-published routes to market. \nWe will also have Stephanie Jackson\, Publishing Director at DK Books\, joining us to give a publisher’s perspective. Writers are not the only ones in the literary world who have undergone huge changes in their market place these last few decades\, and understanding the publishing world better is part of solving the eternal problem off how to get our work in front of the reading public. \nWe will meet at the Tunbridge Wells Hotel\, 58 The Pantiles\, Tunbridge Wells TN2 5TD. If you would like to submit any questions in advance\, please email them to localgroups@societyofauthors.org. \nTo attend the meeting\, click the Going button below and fill out the RSVP form. If you do not receive a confirmation email\, or have trouble signing up\, please contact localgroups@societyofauthors.org. \n 
URL:https://societyofauthors.org/event/sevenoaks-and-tunbridge-wells-group-routes-into-publishing-panel-210426/
LOCATION:The Tunbridge Wells Hotel\, 58 The Pantiles\, Tunbridge Wells\, TN2 5TD\, United Kingdom
CATEGORIES:SoA local group meet-up
ATTACH;FMTTYPE=image/jpeg:https://societyofauthors.org/wp-content/uploads/2020/05/Group-Header-Sevenoaks-Tunbridge-Wells.jpg
ORGANIZER;CN="Local Groups":MAILTO:localgroups@societyofauthors.org
GEO:51.1258978;0.2572905
X-APPLE-STRUCTURED-LOCATION;VALUE=URI;X-ADDRESS=The Tunbridge Wells Hotel 58 The Pantiles Tunbridge Wells TN2 5TD United Kingdom;X-APPLE-RADIUS=500;X-TITLE=58 The Pantiles:geo:0.2572905,51.1258978
END:VEVENT
END:VCALENDAR