BEGIN:VCALENDAR
VERSION:2.0
PRODID:-//The Society of Authors - ECPv6.15.20//NONSGML v1.0//EN
CALSCALE:GREGORIAN
METHOD:PUBLISH
X-WR-CALNAME:The Society of Authors
X-ORIGINAL-URL:https://societyofauthors.org
X-WR-CALDESC:Events for The Society of Authors
REFRESH-INTERVAL;VALUE=DURATION:PT1H
X-Robots-Tag:noindex
X-PUBLISHED-TTL:PT1H
BEGIN:VTIMEZONE
TZID:Europe/London
BEGIN:DAYLIGHT
TZOFFSETFROM:+0000
TZOFFSETTO:+0100
TZNAME:BST
DTSTART:20250330T010000
END:DAYLIGHT
BEGIN:STANDARD
TZOFFSETFROM:+0100
TZOFFSETTO:+0000
TZNAME:GMT
DTSTART:20251026T010000
END:STANDARD
BEGIN:DAYLIGHT
TZOFFSETFROM:+0000
TZOFFSETTO:+0100
TZNAME:BST
DTSTART:20260329T010000
END:DAYLIGHT
BEGIN:STANDARD
TZOFFSETFROM:+0100
TZOFFSETTO:+0000
TZNAME:GMT
DTSTART:20261025T010000
END:STANDARD
BEGIN:DAYLIGHT
TZOFFSETFROM:+0000
TZOFFSETTO:+0100
TZNAME:BST
DTSTART:20270328T010000
END:DAYLIGHT
BEGIN:STANDARD
TZOFFSETFROM:+0100
TZOFFSETTO:+0000
TZNAME:GMT
DTSTART:20271031T010000
END:STANDARD
END:VTIMEZONE
BEGIN:VEVENT
DTSTART;TZID=Europe/London:20260323T100000
DTEND;TZID=Europe/London:20260323T160000
DTSTAMP:20260423T223213
CREATED:20220121T162059Z
LAST-MODIFIED:20260317T112716Z
UID:10001865-1774260000-1774281600@societyofauthors.org
SUMMARY:SOLD OUT | SoA Author Photos
DESCRIPTION:This event is now SOLD OUT. Please email events@societyofauthors.org if you would like to be added to the waiting list for this date. \nAlternatively\, you can still buy tickets for our November date here.  \n  \nSoA members are offered the chance to have a professional author photo taken by photographer Adrian Pope for a fraction of the usual cost. The usual price for professional headshots is around £200 or considerably more for a longer studio session. \nCome and update your headshot at the SoA offices on Bedford Row – this is offered at a discounted price of £40 for SoA members and £60 for non-members on a first come\, first served basis to members. \n  \nWhat do you get?\n\nYou’ll be given a 10 minute slot.\nBasic light retouching included (general lightening\, darkening\, crop and portrait softening as needed) to your chosen photo.\n\n  \nNeed to know\n\nLicence for usage. Your photo can be used across your social media channels\, websites\, press and PR\nThe licence does not include usage for above the line advertising or book jackets – please contact Adrian Pope for permission\n\n  \nGetting to the Society of Authors\n\nOur address: 24 Bedford Row\, London WC1R 4EH\nNearest tube stations: Chancery Lane or Holborn\nClick for Map \n\n  \nAccessibility\n\nOur events space is located on the ground floor of our office\, we have a wheelchair ramp round the side entrance of the building. We also have an accessible toilet by the side entrance.\nIf you require BSL interpretation to take part in this event\, please email events@societyofauthors.org.\nIf you have any other accessibility needs\, please email events@societyofauthors.org\n\n  \nFeeling unwell?\nWe recommend the following: \n\nStaying home if you’re feeling unwell or have flu-like symptoms\nWashing your hands when coming in from the outdoors and / or before touching your face\nApplying alcohol hand sanitiser (we will have these on site)\nWe advise attendees to wear a face mask if they feel comfortable doing so\n\n  \nBook your author photo slot\n£40 for SoA Members \n£60 for Non-Members \nOnce we have received your booking\, a Calendly link will be manually sent for you to confirm your slot. Slots are between 10am and 4pm on Monday 23 March 2026 at the SoA. \n  \nBooking\nPlease read our event booking Terms and Conditions \nEvent terms and conditions
URL:https://societyofauthors.org/event/soa-author-photos/
LOCATION:The Society Of Authors\, 24 Bedford Row\, London\, WC1R 4EH\, London\, WC1R 4EH\, GB
CATEGORIES:SoA in Person
ATTACH;FMTTYPE=image/jpeg:https://societyofauthors.org/wp-content/uploads/2022/01/Author-Photos-Day.jpg
GEO:51.5206792;-0.1162502
X-APPLE-STRUCTURED-LOCATION;VALUE=URI;X-ADDRESS=The Society Of Authors 24 Bedford Row London WC1R 4EH London WC1R 4EH GB;X-APPLE-RADIUS=500;X-TITLE=24 Bedford Row\, London\, WC1R 4EH:geo:-0.1162502,51.5206792
END:VEVENT
BEGIN:VEVENT
DTSTART;TZID=Europe/London:20260130T130000
DTEND;TZID=Europe/London:20260130T153000
DTSTAMP:20260423T223213
CREATED:20250108T090059Z
LAST-MODIFIED:20260112T162550Z
UID:10001855-1769778000-1769787000@societyofauthors.org
SUMMARY:John Calder Week | Feel Good Friday - London literary tour
DESCRIPTION:Join London tour guide\, Sam Jacobs as he leads another SoA in person walk through the literary sights in the City of London as part of our John Calder Week. \nWe will discuss John Calder and his key role in the fight against censorship\, as we move through the city. \nWe’ll be starting from Dickens’ house in Doughty Street\, and other Dickensian sites of note in the Chancery Lane area. We lwill take in Dr Johnson’s house\, a very old and very literary pub where over 50 writers have drunk as well asancient areas important to Restoration drama. You’ll also be able to see the homes of the writer of King Kong\, the first female news editor\, Thomas More\, Thomas Hobbes\, Pope\, Milton\, William Blake \, John Keats\, and Samuel Pepys along with Shakespeare’s lodgings and John Donne’s footprint. \nThis tour is ideal for those who like strolling through London and seeing some its alleys and backstreets and talking about some its great writers. \nPlaces are limited and subject to availability. \n  \nJohn Calder Week\nFrom 27 – 30 January 2026\, we are running a week of events to celebrate the SoA’s new John Calder Translation Prize which was launched in November 2024. \nThe John Calder Translation Prize is an annual award for translations into English of full-length ambitious\, groundbreaking works of literary merit and general interest. The winner is awarded £3\,000 and a runner-up is awarded £1\,000. \nThe aim of the John Calder Translation Prize is to celebrate new and ambitious translations into English of full-length works (fiction\, non-fiction and poetry) which are distinguished by the highly personal and imaginative approach of the authors to their subject. Submissions can be from any language into English. \nThe week includes: \n\n27 Jan | Industry Insider – Editing translation\n29 Jan | How I translate – in conversation with Katharine Halls\n30 Jan | SoA in Person: Feel Good Friday – London literary tour\n\n  \nOur John Calder Week illustration was designed by Jack Churchyard from ARTHOUSE Unlimited.ARTHOUSE Unlimited is a charity that showcases the artistic talents and skills of adults living with complex neuro-diverse and physical support needs. The charity’s aim is to empower each artist to feel purpose and inclusion whilst creating and collaborating.Check out ARTHOUSE Unlimited’s website here Read more about the artist\, Jack Churchyard here \n  \nProgramme\n\n1pm – Meet at the SoA’s office for welcome refreshments\n1.25pm – Welcome from SoA and Sam Jacobs\n1.30pm – Group leave SoA office for start of tour\n3.30pm – Tour ends\n\n  \nThe Line-up\nSam Jacobs\nSam is a qualified City of London guide and Cambridge literature graduate. He has led many walking groups through the city. He loves exploring the city  together. Each tour is different and everybody brings something new to the day. \nSam’s written books about London including its sights\, literature\, and Whitechapel. \nWebsites: www.cityoflondonwalks.wordpress.com | www.cityoflondonguides.com/find/samjacobs | www.toursbylocals.com \nSubstack: samljacobs | Threads: @samuelljacobs | Tripadvisor: Sam L Jacobs | Facebook: Sam Jacobs \n  \nAccessibility\n\nOur events space is located on the ground floor of our office\, we have a wheelchair ramp round the side entrance of the building. We also have an accessible toilet by the side entrance.\nPlease note that this event will require moving around London for a total of two hours without guaranteed places to sit down along with way.\nIf you require BSL interpretation to take part in this event\, please email events@societyofauthors.org.\nIf you have any other accessibility needs\, please email events@societyofauthors.org\n\n  \nFeeling unwell?\nWe recommend the following: \n\nStaying home if you’re feeling unwell or have flu-like symptoms\nWashing your hands when coming in from the outdoors and / or before touching your face\nApplying alcohol hand sanitiser (we will have these on site)\nWe advise attendees to wear a face mask if they feel comfortable doing so\n\n  \nTickets\n£9.50 for SoA Members  \n£19.50 for Non-Members \n  \nBooking\nBook your place using the booking from below. Places are limited. \nPlease read our event booking Terms and Conditions: https://societyofauthors.org/legal-privacy/event-terms/ \n		\n					\n						\n					\n			\n						\n				\n							\n							\n					\n													\n															\n								\n														\n												Accordion Title\n					\n					Accordion Content \n				\n							\n					\n													\n															\n								\n														\n												Not a member? Join the SoA today for FREE access to all our #SoAatHome events \n					\n					Access 20% off your first year of membership of the SoA with discount code SOAATHOME20  The Society of Authors is the UK’s biggest trade union for authors – representing more than 12\,000 writers\, illustrators\, translators and other creative practitioners.   Our subscription rate is just £137 per year (£97 concessionary) which equates to just under £12 per month (or £8 per month concessionary).  As an SoA member\, you’ll get:  Access to all our #SoAatHome events for free including the Professional Development sessions usually charged at £35 from Feb 2025 Access to all our Feel Good Friday and Industry Insider events which are usually charged £5 from Feb 2025 Access all #SoAatHome Vimeo professional development recordings so you can catch up in your own time Access Unlimited one-to-one professional advice Membership of our online and real-world professional networks and special interest groups A range of member-only discounts\, including books\, insurance and travel And much more ‘It was a surprisingly lovely way to meet fellow writers in a friendly\, warm surrounding perfectly hosted by the SoA staff. Thank you for all the introductions\, the welcome and the nourishment!’  – attendee from SoA in Person: Autumn New Members’ Party 2024  JOIN NOW  |  PRICING\n				\n								\n						\n				\n					\n		\n					\n		\n				\n		\n		\n					\n						\n					\n			\n						\n				\n							\n							\n					\n													\n															\n								\n														\n												Accordion Title\n					\n					Accordion Content \n				\n							\n					\n													\n															\n								\n														\n												The Society of Authors’ Access Fund - donate now\n					\n					Giving authors support for travel\, subsistence\, childcare or access needs for events\, residencies\, and retreatsEvery contribution helps us ensure that these needs and costs aren’t barriers to authors wishing to access events. If you are in a position to help\, please donate via the link below. If you are an author facing access issues\, please click here to see if we can help. DONATE NOW
URL:https://societyofauthors.org/event/john-calder-week-feel-good-friday-london-literary-tour/
LOCATION:The Society Of Authors\, 24 Bedford Row\, London\, WC1R 4EH\, London\, WC1R 4EH\, GB
CATEGORIES:SoA in Person
ATTACH;FMTTYPE=image/jpeg:https://societyofauthors.org/wp-content/uploads/2025/01/Feel-Good-Friday_London-literary-tour.jpg
GEO:51.5206792;-0.1162502
X-APPLE-STRUCTURED-LOCATION;VALUE=URI;X-ADDRESS=The Society Of Authors 24 Bedford Row London WC1R 4EH London WC1R 4EH GB;X-APPLE-RADIUS=500;X-TITLE=24 Bedford Row\, London\, WC1R 4EH:geo:-0.1162502,51.5206792
END:VEVENT
END:VCALENDAR