BEGIN:VCALENDAR
VERSION:2.0
PRODID:-//The Society of Authors - ECPv6.15.20//NONSGML v1.0//EN
CALSCALE:GREGORIAN
METHOD:PUBLISH
X-WR-CALNAME:The Society of Authors
X-ORIGINAL-URL:https://societyofauthors.org
X-WR-CALDESC:Events for The Society of Authors
REFRESH-INTERVAL;VALUE=DURATION:PT1H
X-Robots-Tag:noindex
X-PUBLISHED-TTL:PT1H
BEGIN:VTIMEZONE
TZID:Europe/London
BEGIN:DAYLIGHT
TZOFFSETFROM:+0000
TZOFFSETTO:+0100
TZNAME:BST
DTSTART:20250330T010000
END:DAYLIGHT
BEGIN:STANDARD
TZOFFSETFROM:+0100
TZOFFSETTO:+0000
TZNAME:GMT
DTSTART:20251026T010000
END:STANDARD
BEGIN:DAYLIGHT
TZOFFSETFROM:+0000
TZOFFSETTO:+0100
TZNAME:BST
DTSTART:20260329T010000
END:DAYLIGHT
BEGIN:STANDARD
TZOFFSETFROM:+0100
TZOFFSETTO:+0000
TZNAME:GMT
DTSTART:20261025T010000
END:STANDARD
BEGIN:DAYLIGHT
TZOFFSETFROM:+0000
TZOFFSETTO:+0100
TZNAME:BST
DTSTART:20270328T010000
END:DAYLIGHT
BEGIN:STANDARD
TZOFFSETFROM:+0100
TZOFFSETTO:+0000
TZNAME:GMT
DTSTART:20271031T010000
END:STANDARD
END:VTIMEZONE
BEGIN:VEVENT
DTSTART;TZID=Europe/London:20260126T100000
DTEND;TZID=Europe/London:20260126T120000
DTSTAMP:20260423T222202
CREATED:20260114T104828Z
LAST-MODIFIED:20260114T104828Z
UID:10001891-1769421600-1769428800@societyofauthors.org
SUMMARY:Scottish Borders Group meet-up
DESCRIPTION:Join the Scottish Borders Group on Monday 26 January from 10am for a meet-up in Kelso. Please bring along any problems or queries you may have regarding your writing projects to share with the group. \nWe will meet at The Mayfield Garden Centre\, Glebe Lane\, Roxburghshire\, Kelso\, TD5 7AU. \nRefreshments are available. There is ample parking. \nAll members welcome! \nTo attend the meeting\, click the Going button below and fill out the RSVP form. If you do not receive a confirmation email\, or have trouble signing up\, please contact localgroups@societyofauthors.org. \nPlease contact group organiser Iona McGregor with any questions.
URL:https://societyofauthors.org/event/scottish-borders-group-meet-up-260126/
LOCATION:The Mayfield Garden Centre\, The Mayfield Garden Centre\, Glebe Lane\, Roxburghshire\, Kelso\, TD5 7AU\, United Kingdom
CATEGORIES:SoA local group meet-up
ATTACH;FMTTYPE=image/jpeg:https://societyofauthors.org/wp-content/uploads/2020/05/Group-Header-Scottish-Borders.jpg
ORGANIZER;CN="Iona McGregor":MAILTO:mcgregor.iona@btinternet.com
GEO:55.5971287;-2.4280569
X-APPLE-STRUCTURED-LOCATION;VALUE=URI;X-ADDRESS=The Mayfield Garden Centre The Mayfield Garden Centre Glebe Lane Roxburghshire Kelso TD5 7AU United Kingdom;X-APPLE-RADIUS=500;X-TITLE=The Mayfield Garden Centre\, Glebe Lane\, Roxburghshire:geo:-2.4280569,55.5971287
END:VEVENT
END:VCALENDAR