BEGIN:VCALENDAR
VERSION:2.0
PRODID:-//The Society of Authors - ECPv6.15.20//NONSGML v1.0//EN
CALSCALE:GREGORIAN
METHOD:PUBLISH
X-ORIGINAL-URL:https://societyofauthors.org
X-WR-CALDESC:Events for The Society of Authors
REFRESH-INTERVAL;VALUE=DURATION:PT1H
X-Robots-Tag:noindex
X-PUBLISHED-TTL:PT1H
BEGIN:VTIMEZONE
TZID:Europe/London
BEGIN:DAYLIGHT
TZOFFSETFROM:+0000
TZOFFSETTO:+0100
TZNAME:BST
DTSTART:20250330T010000
END:DAYLIGHT
BEGIN:STANDARD
TZOFFSETFROM:+0100
TZOFFSETTO:+0000
TZNAME:GMT
DTSTART:20251026T010000
END:STANDARD
BEGIN:DAYLIGHT
TZOFFSETFROM:+0000
TZOFFSETTO:+0100
TZNAME:BST
DTSTART:20260329T010000
END:DAYLIGHT
BEGIN:STANDARD
TZOFFSETFROM:+0100
TZOFFSETTO:+0000
TZNAME:GMT
DTSTART:20261025T010000
END:STANDARD
BEGIN:DAYLIGHT
TZOFFSETFROM:+0000
TZOFFSETTO:+0100
TZNAME:BST
DTSTART:20270328T010000
END:DAYLIGHT
BEGIN:STANDARD
TZOFFSETFROM:+0100
TZOFFSETTO:+0000
TZNAME:GMT
DTSTART:20271031T010000
END:STANDARD
END:VTIMEZONE
BEGIN:VEVENT
DTSTART;TZID=Europe/London:20260416T120000
DTEND;TZID=Europe/London:20260416T140000
DTSTAMP:20260423T200450
CREATED:20260330T145828Z
LAST-MODIFIED:20260330T150315Z
UID:10002061-1776340800-1776348000@societyofauthors.org
SUMMARY:North Wales Group: Spring get-together
DESCRIPTION:Join the North Wales Group in person on Thursday 16 April from 12pm for a Spring get-together. \nWhile our Zoom events are a wonderful way to meet and socialise with other writers in the area\, this will be a chance to connect and collaborate in-person.  \nWe will meet at Mostyn Oriel Cafe\, 12 Vaughan St\, Llandudno LL30 1AB \nAll members welcome! \nTo attend the meeting\, click the Going button below and fill out the RSVP form. If you do not receive a confirmation email\, or have trouble signing up\, please contact localgroups@societyofauthors.org.
URL:https://societyofauthors.org/event/north-wales-group-spring-get-together-160426/
LOCATION:Oriel Mostyn Cafe\, 12 Vaughan St\, Llandudno\, LL30 1AB
CATEGORIES:SoA local group meet-up,Society of Authors in Wales
ATTACH;FMTTYPE=image/jpeg:https://societyofauthors.org/wp-content/uploads/2021/04/Group-Header-North-Wales.jpg
ORGANIZER;CN="Local Groups":MAILTO:localgroups@societyofauthors.org
GEO:53.3212566;-3.8250012
X-APPLE-STRUCTURED-LOCATION;VALUE=URI;X-ADDRESS=Oriel Mostyn Cafe 12 Vaughan St Llandudno LL30 1AB;X-APPLE-RADIUS=500;X-TITLE=12 Vaughan St:geo:-3.8250012,53.3212566
END:VEVENT
END:VCALENDAR