BEGIN:VCALENDAR
VERSION:2.0
PRODID:-//The Society of Authors - ECPv6.15.20//NONSGML v1.0//EN
CALSCALE:GREGORIAN
METHOD:PUBLISH
X-WR-CALNAME:The Society of Authors
X-ORIGINAL-URL:https://societyofauthors.org
X-WR-CALDESC:Events for The Society of Authors
REFRESH-INTERVAL;VALUE=DURATION:PT1H
X-Robots-Tag:noindex
X-PUBLISHED-TTL:PT1H
BEGIN:VTIMEZONE
TZID:Europe/London
BEGIN:DAYLIGHT
TZOFFSETFROM:+0000
TZOFFSETTO:+0100
TZNAME:BST
DTSTART:20250330T010000
END:DAYLIGHT
BEGIN:STANDARD
TZOFFSETFROM:+0100
TZOFFSETTO:+0000
TZNAME:GMT
DTSTART:20251026T010000
END:STANDARD
BEGIN:DAYLIGHT
TZOFFSETFROM:+0000
TZOFFSETTO:+0100
TZNAME:BST
DTSTART:20260329T010000
END:DAYLIGHT
BEGIN:STANDARD
TZOFFSETFROM:+0100
TZOFFSETTO:+0000
TZNAME:GMT
DTSTART:20261025T010000
END:STANDARD
BEGIN:DAYLIGHT
TZOFFSETFROM:+0000
TZOFFSETTO:+0100
TZNAME:BST
DTSTART:20270328T010000
END:DAYLIGHT
BEGIN:STANDARD
TZOFFSETFROM:+0100
TZOFFSETTO:+0000
TZNAME:GMT
DTSTART:20271031T010000
END:STANDARD
END:VTIMEZONE
BEGIN:VEVENT
DTSTART;TZID=Europe/London:20260405T123000
DTEND;TZID=Europe/London:20260405T143000
DTSTAMP:20260423T201152
CREATED:20260309T104512Z
LAST-MODIFIED:20260309T104512Z
UID:10002028-1775392200-1775399400@societyofauthors.org
SUMMARY:Aberdeen Group meet-up
DESCRIPTION:Join the Aberdeen Group for their next meeting on Sunday 5 April from 12.30pm. Come along and get to know one another and our local SoA community\, make connections and exchange ideas! \nWe will meet on the top floor of the Books and Beans Cafe\, 22 Belmont St\, Aberdeen AB10 1JH.  \nAll members welcome from the surrounding area!  \nTo attend the meeting\, click the Going button below and fill out the RSVP form. If you do not receive a confirmation email\, or have trouble signing up\, please contact localgroups@societyofauthors.org.
URL:https://societyofauthors.org/event/aberdeen-group-meet-up-050426/
LOCATION:Books and Beans Cafe\, 22 Belmont St\, Aberdeen\, AB10 1JH
CATEGORIES:SoA local group meet-up
ATTACH;FMTTYPE=image/jpeg:https://societyofauthors.org/wp-content/uploads/2025/12/Group-Header-Aberdeen.jpg
ORGANIZER;CN="Local Groups":MAILTO:localgroups@societyofauthors.org
GEO:57.1469386;-2.1013172
X-APPLE-STRUCTURED-LOCATION;VALUE=URI;X-ADDRESS=Books and Beans Cafe 22 Belmont St Aberdeen AB10 1JH;X-APPLE-RADIUS=500;X-TITLE=22 Belmont St\, Aberdeen:geo:-2.1013172,57.1469386
END:VEVENT
BEGIN:VEVENT
DTSTART;TZID=Europe/London:20260301T110000
DTEND;TZID=Europe/London:20260301T130000
DTSTAMP:20260423T201152
CREATED:20260209T113425Z
LAST-MODIFIED:20260217T103430Z
UID:10001988-1772362800-1772370000@societyofauthors.org
SUMMARY:Aberdeen Group: New Year\, New Introductions
DESCRIPTION:Join the Aberdeen Group for their first meeting on Sunday 1 March from 11am. Come along and get to know one another and our local SoA community\, make connections and exchange ideas! \nWe will meet on the top floor of the Books and Beans Cafe\, 22 Belmont St\, Aberdeen AB10 1JH.  \nAll members welcome from the surrounding area!  \nTo attend the meeting\, click the Going button below and fill out the RSVP form. If you do not receive a confirmation email\, or have trouble signing up\, please contact localgroups@societyofauthors.org.
URL:https://societyofauthors.org/event/aberdeen-group-new-year-new-introductions-010326/
LOCATION:Books and Beans Cafe\, 22 Belmont St\, Aberdeen\, AB10 1JH
CATEGORIES:SoA local group meet-up
ATTACH;FMTTYPE=image/jpeg:https://societyofauthors.org/wp-content/uploads/2025/12/Group-Header-Aberdeen.jpg
ORGANIZER;CN="Local Groups":MAILTO:localgroups@societyofauthors.org
GEO:57.1469386;-2.1013172
X-APPLE-STRUCTURED-LOCATION;VALUE=URI;X-ADDRESS=Books and Beans Cafe 22 Belmont St Aberdeen AB10 1JH;X-APPLE-RADIUS=500;X-TITLE=22 Belmont St\, Aberdeen:geo:-2.1013172,57.1469386
END:VEVENT
END:VCALENDAR